BEGIN:VCALENDAR
VERSION:2.0
PRODID:-//IPWG - ECPv6.0.13//NONSGML v1.0//EN
CALSCALE:GREGORIAN
METHOD:PUBLISH
X-WR-CALNAME:IPWG
X-ORIGINAL-URL:https://i-pwg.org
X-WR-CALDESC:Events for IPWG
REFRESH-INTERVAL;VALUE=DURATION:PT1H
X-Robots-Tag:noindex
X-PUBLISHED-TTL:PT1H
BEGIN:VTIMEZONE
TZID:UTC
BEGIN:STANDARD
TZOFFSETFROM:+0000
TZOFFSETTO:+0000
TZNAME:UTC
DTSTART:20230101T000000
END:STANDARD
END:VTIMEZONE
BEGIN:VEVENT
DTSTART;TZID=UTC:20230131T090000
DTEND;TZID=UTC:20230131T103000
DTSTAMP:20260425T115028
CREATED:20230111T155738Z
LAST-MODIFIED:20230116T171118Z
UID:5923-1675155600-1675161000@i-pwg.org
SUMMARY:I-PWG Monthly Meeting on Tuesday 31st January
DESCRIPTION:
URL:https://i-pwg.org/event/2023-i-pwg-f2f-meeting-to-be-held-on-tuesday-31st-january/
END:VEVENT
END:VCALENDAR