BEGIN:VCALENDAR
VERSION:2.0
PRODID:-//IPWG - ECPv6.0.13//NONSGML v1.0//EN
CALSCALE:GREGORIAN
METHOD:PUBLISH
X-WR-CALNAME:IPWG
X-ORIGINAL-URL:https://i-pwg.org
X-WR-CALDESC:Events for IPWG
REFRESH-INTERVAL;VALUE=DURATION:PT1H
X-Robots-Tag:noindex
X-PUBLISHED-TTL:PT1H
BEGIN:VTIMEZONE
TZID:UTC
BEGIN:STANDARD
TZOFFSETFROM:+0000
TZOFFSETTO:+0000
TZNAME:UTC
DTSTART:20230101T000000
END:STANDARD
END:VTIMEZONE
BEGIN:VEVENT
DTSTART;TZID=UTC:20230214T090000
DTEND;TZID=UTC:20230214T103000
DTSTAMP:20260425T115153
CREATED:20230111T144110Z
LAST-MODIFIED:20230116T171104Z
UID:5871-1676365200-1676370600@i-pwg.org
SUMMARY:I-PWG Monthly Meeting on Tuesday 14th February
DESCRIPTION:
URL:https://i-pwg.org/event/the-2023-monthly-meeting-dates/
END:VEVENT
END:VCALENDAR