BEGIN:VCALENDAR
VERSION:2.0
PRODID:-//IPWG - ECPv6.0.13//NONSGML v1.0//EN
CALSCALE:GREGORIAN
METHOD:PUBLISH
X-ORIGINAL-URL:https://i-pwg.org
X-WR-CALDESC:Events for IPWG
REFRESH-INTERVAL;VALUE=DURATION:PT1H
X-Robots-Tag:noindex
X-PUBLISHED-TTL:PT1H
BEGIN:VTIMEZONE
TZID:UTC
BEGIN:STANDARD
TZOFFSETFROM:+0000
TZOFFSETTO:+0000
TZNAME:UTC
DTSTART:20230101T000000
END:STANDARD
END:VTIMEZONE
BEGIN:VEVENT
DTSTART;TZID=UTC:20231114T090000
DTEND;TZID=UTC:20231114T103000
DTSTAMP:20260424T182024
CREATED:20230111T145951Z
LAST-MODIFIED:20230116T170400Z
UID:5893-1699952400-1699957800@i-pwg.org
SUMMARY:I-PWG Monthly Meeting on Tuesday 14th November
DESCRIPTION:
URL:https://i-pwg.org/event/november-14-the-2023-monthly-meeting-date/
END:VEVENT
END:VCALENDAR